BEGIN:VCALENDAR
VERSION:2.0
PRODID:-//texashistoricalfoundation.org//NONSGML kigkonsult.se iCalcreator 
 2.30.10//
CALSCALE:GREGORIAN
METHOD:PUBLISH
UID:864dc9b4-23f3-48aa-b7ec-f226f824fc05
X-WR-CALDESC:Come and preview the IMAX® documentary film\, Wings Over Water
 \, which will be playing at the Bullock Museum until December 31\, 2022. W
 ings Over Water\, narrated by Michael Keaton\, tells the compelling story 
 of three amazing bird species—the Sandhill Crane\, the Yellow Warbler\, an
 d the Mallard Duck—with extraordinary footage of their fascinating behavio
 rs. All of them depend on the wetlands for their survival. After the film\
 , we will have lunch\, discuss the curricular connections to the film's to
 pics\, and try out hands-on classroom activities. There will also be prize
  drawings and CPE certificates provided\, SBEC approved.\n\nThe event is f
 ree of charge\, and parking is complimentary in the Museum’s garage. Pleas
 e note there is construction on the roads around the building. Follow the 
 signs to the parking garage entrance on 18th Street\, between Congress and
  Colorado.
X-WR-RELCALID:eaf918331321c391dc8de1ad3ac61aad
X-WR-TIMEZONE:America/Chicago
BEGIN:VTIMEZONE
TZID:America/Chicago
BEGIN:STANDARD
TZNAME:CST
DTSTART:20211107T020000
TZOFFSETFROM:-0500
TZOFFSETTO:-0600
RDATE:20221106T020000
RDATE:20231105T020000
END:STANDARD
BEGIN:DAYLIGHT
TZNAME:CDT
DTSTART:20220313T020000
TZOFFSETFROM:-0600
TZOFFSETTO:-0500
RDATE:20230312T020000
END:DAYLIGHT
END:VTIMEZONE
BEGIN:VEVENT
UID:ef42d74b-cc93-4d1d-803c-79921a65ffcf
DTSTAMP:20260421T072916Z
DESCRIPTION:Come and preview the IMAX® documentary film\, Wings Over Water\
 , which will be playing at the Bullock Museum until December 31\, 2022. Wi
 ngs Over Water\, narrated by Michael Keaton\, tells the compelling story o
 f three amazing bird species—the Sandhill Crane\, the Yellow Warbler\, and
  the Mallard Duck—with extraordinary footage of their fascinating behavior
 s. All of them depend on the wetlands for their survival. After the film\,
  we will have lunch\, discuss the curricular connections to the film's top
 ics\, and try out hands-on classroom activities. There will also be prize 
 drawings and CPE certificates provided\, SBEC approved.\n\nThe event is fr
 ee of charge\, and parking is complimentary in the Museum’s garage. Please
  note there is construction on the roads around the building. Follow the s
 igns to the parking garage entrance on 18th Street\, between Congress and 
 Colorado.
DTSTART;TZID=America/Chicago:20220615T110000
DTEND;TZID=America/Chicago:20220615T133000
LOCATION:The Bullock Texas State History Museum\, 1800 Congress Ave\, Austi
 n\, TX 78701
SUMMARY:Silver Screen Social at the Bullock Museum\, Austin
END:VEVENT
END:VCALENDAR
