BEGIN:VCALENDAR
VERSION:2.0
PRODID:-//texashistoricalfoundation.org//NONSGML kigkonsult.se iCalcreator 
 2.30.10//
CALSCALE:GREGORIAN
METHOD:PUBLISH
UID:0e058e22-f317-4c24-a513-ac708c88c163
X-WR-CALDESC:Grant Presentation for Dickey Museum & Multipurpose Center\nFa
 nnie Robinson Park | 260 S Dolan St\, Taylor 76574 | June 18\, 1:00\n\nTHF
  grant presentation for the Dickey Museum & Multipurpose Center to take pl
 ace Saturday\, June 18 at 1:00 P. M. in Taylor\, TX. The presentation will
  coincide with daylong annual Juneteenth Celebration at Fannie Robinson Pa
 rk at 260 South Dolan Street in Taylor. Juneteenth activities are planned 
 from 12-10 P. M. and will include live music\, children's activities\, a d
 omino tournament\, and more (see flier for more details)\n\nThe recent gra
 nt for $5\,000 was awarded from the Michael C. Duda Historic Architectural
  Endowment to the Dickey Museum & Multipurpose Center to restore the windo
 ws at the historic home of local civil rights activist Dr. James Lee Dicke
 y. The organization has been working for many years to convert the house f
 or use as a community resource center and museum of African-American herit
 age. To date\, the project has received $30\,000 in THF funding.\n\n
X-WR-RELCALID:404fcda7dd7f83ce5ac90e465bc880a9
X-WR-TIMEZONE:America/Chicago
BEGIN:VTIMEZONE
TZID:America/Chicago
BEGIN:STANDARD
TZNAME:CST
DTSTART:20211107T020000
TZOFFSETFROM:-0500
TZOFFSETTO:-0600
RDATE:20221106T020000
RDATE:20231105T020000
END:STANDARD
BEGIN:DAYLIGHT
TZNAME:CDT
DTSTART:20220313T020000
TZOFFSETFROM:-0600
TZOFFSETTO:-0500
RDATE:20230312T020000
END:DAYLIGHT
END:VTIMEZONE
BEGIN:VEVENT
UID:26a718de-46b7-4458-a3d9-84abc9f6a7e2
DTSTAMP:20260421T073908Z
DESCRIPTION:Grant Presentation for Dickey Museum & Multipurpose Center\nFan
 nie Robinson Park | 260 S Dolan St\, Taylor 76574 | June 18\, 1:00\n\nTHF 
 grant presentation for the Dickey Museum & Multipurpose Center to take pla
 ce Saturday\, June 18 at 1:00 P. M. in Taylor\, TX. The presentation will 
 coincide with daylong annual Juneteenth Celebration at Fannie Robinson Par
 k at 260 South Dolan Street in Taylor. Juneteenth activities are planned f
 rom 12-10 P. M. and will include live music\, children's activities\, a do
 mino tournament\, and more (see flier for more details)\n\nThe recent gran
 t for $5\,000 was awarded from the Michael C. Duda Historic Architectural 
 Endowment to the Dickey Museum & Multipurpose Center to restore the window
 s at the historic home of local civil rights activist Dr. James Lee Dickey
 . The organization has been working for many years to convert the house fo
 r use as a community resource center and museum of African-American herita
 ge. To date\, the project has received $30\,000 in THF funding.\n\n
DTSTART;TZID=America/Chicago:20220618T120000
DTEND;TZID=America/Chicago:20220618T220000
LOCATION:Fannie Robinson Park | 260 S Dolan St\, Taylor 76574 | June 18\, 1
 :00
SUMMARY:Juneteenth Celebration & Dickey Museum Grant Presentation\, Taylor
END:VEVENT
END:VCALENDAR
