BEGIN:VCALENDAR
VERSION:2.0
PRODID:-//texashistoricalfoundation.org//NONSGML kigkonsult.se iCalcreator 
 2.30.10//
CALSCALE:GREGORIAN
METHOD:PUBLISH
UID:4007c5b7-dbc0-4be9-b644-43757f1b5850
X-WR-CALDESC:Movies at the historic Port Isabel Lighthouse! Free admission 
 to the movies. The Lighthouse will be open until 9 p.m.\n\nRain dates will
  be announced. Bring your lawn chairs\, blankets\, picnics and friends and
  family for a memorable evening on the grounds of the historic Port Isabel
  lighthouse.\n\n\nNO ADMISSION CHARGE. Concessions available. No hard-side
 d coolers are allowed. Pets allowed but must be on a leash and curbed.\n\n
X-WR-RELCALID:7ce3794243187aed2fb1aa81fd991321
X-WR-TIMEZONE:America/Chicago
BEGIN:VTIMEZONE
TZID:America/Chicago
BEGIN:STANDARD
TZNAME:CST
DTSTART:20211107T020000
TZOFFSETFROM:-0500
TZOFFSETTO:-0600
RDATE:20221106T020000
RDATE:20231105T020000
END:STANDARD
BEGIN:DAYLIGHT
TZNAME:CDT
DTSTART:20220313T020000
TZOFFSETFROM:-0600
TZOFFSETTO:-0500
RDATE:20230312T020000
END:DAYLIGHT
END:VTIMEZONE
BEGIN:VEVENT
UID:82bf6de8-73fe-45ba-a7b2-e9ee87e06954
DTSTAMP:20260421T073352Z
DESCRIPTION:Movies at the historic Port Isabel Lighthouse! Free admission t
 o the movies. The Lighthouse will be open until 9 p.m.\n\nRain dates will 
 be announced. Bring your lawn chairs\, blankets\, picnics and friends and 
 family for a memorable evening on the grounds of the historic Port Isabel 
 lighthouse.\n\n\nNO ADMISSION CHARGE. Concessions available. No hard-sided
  coolers are allowed. Pets allowed but must be on a leash and curbed.\n\n
DTSTART;TZID=America/Chicago:20220623T210000
DTEND;TZID=America/Chicago:20220623T230000
LOCATION:Free movie night at the historic Port Isabel Lighthouse
SUMMARY:Movies at the Lighthouse\, Port Isabel
END:VEVENT
END:VCALENDAR
