BEGIN:VCALENDAR
VERSION:2.0
PRODID:-//texashistoricalfoundation.org//NONSGML kigkonsult.se iCalcreator 
 2.30.10//
CALSCALE:GREGORIAN
METHOD:PUBLISH
UID:6becf873-22c3-436c-968d-98ff317dafcf
X-WR-CALDESC:The Real West Symposium in Saint Jo\, TX is a Cowboy and Weste
 rn History Symposium. The even celebrates its fifth year Saturday\, June 2
 5. This years symposium will focus on 'The Reel Cowboy'\,  digging deeper 
 into those Western heroes we grew up watching in movies and on television.
 \n\n\nSYMPOSIUM DAY-LONG EVENT\, SATURDAY\, JUNE 25 \n8:00  |  The Stonewa
 ll Saloon Museum\nBreakfast burritos and coffee served\n\n9:00 - 9:15  |  
 Texas Theater Lobby and Theater Auditorium\nWelcome and Introductions\n\n9
 :20 - 10:15  |  Texas Theater Auditorium\n'Wichita: A Personal Commentary'
 \nWyatt McCrea\, Producer\, Actor\, and Grandson of Joel McCrea the star o
 f 'Wichita'\n\n10:20 - 11:20  |  Texas Theater Auditorium\n'The Rise of th
 e Singing Cowboy: American Entertainment Changed Forever'\nMichael Martin 
 Murphey\, Singer songwriter will give a lecture. This is not a musical per
 formance.\n\n11:25 - 11:45  |  Texas Theater Auditorium\nAnnouncements and
  Directions\nRandy Meador​\n\n11:45 - 1:00  |  The Lazy Heart Grill\nCater
 ed Lunch. Please be mindful of time\, and enjoy!\n\n1:00 - 1:10  |  Texas 
 Theater Auditorium\nWelcome Back\n\n1:10 - 2:45  |  Texas Theater Auditori
 um\n'Cowboys Without Borders'\nGaston 'Stoney' Davis\, Filmmaker\n\n2:50 -
  3:35  |  Texas Theater Auditorium\n'The Last of the Silver Screen Cowboys
 '\nMichael R. Grauer\, McCasland Chair of Cowboy Culture & Curator of Cowb
 oy Collections & Western Art\,\nNational Cowboy Museum\n\n3:40 - 4:15  |  
 Texas Theater Auditorium\nQ&A Panel with Michael Grauer\, Wyatt McCrea\, a
 nd Gaston 'Stoney' Davis\n\n4:15 - 4:25  |  Texas Theater Auditorium\nClos
 ing Summary & Directions\n\n4:30 - 6:00  |  Davis & Blevins Gallery\, on t
 he Square\nWine & Cheese Social Hour + Book Signing\, Meet Past & Present 
 Presenters\n
X-WR-RELCALID:96a3dfed6e6617563bf1b8db98bba5fe
X-WR-TIMEZONE:America/Chicago
BEGIN:VTIMEZONE
TZID:America/Chicago
BEGIN:STANDARD
TZNAME:CST
DTSTART:20211107T020000
TZOFFSETFROM:-0500
TZOFFSETTO:-0600
RDATE:20221106T020000
RDATE:20231105T020000
END:STANDARD
BEGIN:DAYLIGHT
TZNAME:CDT
DTSTART:20220313T020000
TZOFFSETFROM:-0600
TZOFFSETTO:-0500
RDATE:20230312T020000
END:DAYLIGHT
END:VTIMEZONE
BEGIN:VEVENT
UID:977a14ac-b26a-4b59-9c40-9ee6f6fdb425
DTSTAMP:20260421T074048Z
DESCRIPTION:The Real West Symposium in Saint Jo\, TX is a Cowboy and Wester
 n History Symposium. The even celebrates its fifth year Saturday\, June 25
 . This years symposium will focus on 'The Reel Cowboy'\,  digging deeper i
 nto those Western heroes we grew up watching in movies and on television.
 \n\n\nSYMPOSIUM DAY-LONG EVENT\, SATURDAY\, JUNE 25 \n8:00  |  The Stonewa
 ll Saloon Museum\nBreakfast burritos and coffee served\n\n9:00 - 9:15  |  
 Texas Theater Lobby and Theater Auditorium\nWelcome and Introductions\n\n9
 :20 - 10:15  |  Texas Theater Auditorium\n'Wichita: A Personal Commentary'
 \nWyatt McCrea\, Producer\, Actor\, and Grandson of Joel McCrea the star o
 f 'Wichita'\n\n10:20 - 11:20  |  Texas Theater Auditorium\n'The Rise of th
 e Singing Cowboy: American Entertainment Changed Forever'\nMichael Martin 
 Murphey\, Singer songwriter will give a lecture. This is not a musical per
 formance.\n\n11:25 - 11:45  |  Texas Theater Auditorium\nAnnouncements and
  Directions\nRandy Meador​\n\n11:45 - 1:00  |  The Lazy Heart Grill\nCater
 ed Lunch. Please be mindful of time\, and enjoy!\n\n1:00 - 1:10  |  Texas 
 Theater Auditorium\nWelcome Back\n\n1:10 - 2:45  |  Texas Theater Auditori
 um\n'Cowboys Without Borders'\nGaston 'Stoney' Davis\, Filmmaker\n\n2:50 -
  3:35  |  Texas Theater Auditorium\n'The Last of the Silver Screen Cowboys
 '\nMichael R. Grauer\, McCasland Chair of Cowboy Culture & Curator of Cowb
 oy Collections & Western Art\,\nNational Cowboy Museum\n\n3:40 - 4:15  |  
 Texas Theater Auditorium\nQ&A Panel with Michael Grauer\, Wyatt McCrea\, a
 nd Gaston 'Stoney' Davis\n\n4:15 - 4:25  |  Texas Theater Auditorium\nClos
 ing Summary & Directions\n\n4:30 - 6:00  |  Davis & Blevins Gallery\, on t
 he Square\nWine & Cheese Social Hour + Book Signing\, Meet Past & Present 
 Presenters\n
DTSTART;TZID=America/Chicago:20220625T080000
DTEND;TZID=America/Chicago:20220626T130000
LOCATION:Symposium events will take place across Saint Jo\, Texas. For deta
 ils of all events\, visit their website\, linked below.
SUMMARY:5th Annual Real West Symposium\, Saint Jo
END:VEVENT
END:VCALENDAR
