BEGIN:VCALENDAR
VERSION:2.0
PRODID:-//texashistoricalfoundation.org//NONSGML kigkonsult.se iCalcreator 
 2.30.10//
CALSCALE:GREGORIAN
METHOD:PUBLISH
UID:86a0c311-0c5d-4222-8bf3-a381b57eadc6
X-WR-CALDESC:'With House Bill 174\, the Texas State Legislature named the l
 ast Friday in September American Indian Heritage Day\, which recognizes th
 e historic\, cultural\, and social contributions American Indian communiti
 es and leaders have made to the state. The Bullock Museum\, in partnership
  with Great Promise for American Indians\, celebrates our community's indi
 genous cultures with its special American Indian Heritage Day program.'\n
 \nProgram for School Groups and Museum Visitors\n10:00 a.m. – 2:30 p.m.\nD
 iscover the diversity of native groups that have called this land home and
  find out more about groups currently living in Texas. Learn about cultura
 l traditions including storytelling\, clothing decoration\, art creation\,
  and food preparation at hands-on activity stations.\n\nPerformances\n10:3
 0 a.m. – 11:00 a.m. and 12:00 p.m. – 12:30 p.m.\nDancing and drumming perf
 ormances by Great Promise for American Indians in the Museum Grand Lobby.
 \n\nPublic Celebration\n6:00 p.m. – 8:00 p.m.\nCelebrate the traditional a
 nd contemporary arts of Texas's American Indian groups. This FREE public p
 rogram will honor American Indians of yesterday and today\, with dancing a
 nd drumming performances.\n\n6:00 p.m. — Doors open. Explore the exhibitio
 n Becoming Texas\n6:30 p.m. — American Indian Heritage Day program begins
X-WR-RELCALID:0ec9233d2f4807d11a5ededdaec75380
X-WR-TIMEZONE:America/Chicago
BEGIN:VTIMEZONE
TZID:America/Chicago
BEGIN:STANDARD
TZNAME:CST
DTSTART:20211107T020000
TZOFFSETFROM:-0500
TZOFFSETTO:-0600
RDATE:20221106T020000
RDATE:20231105T020000
END:STANDARD
BEGIN:DAYLIGHT
TZNAME:CDT
DTSTART:20220313T020000
TZOFFSETFROM:-0600
TZOFFSETTO:-0500
RDATE:20230312T020000
RDATE:20240310T020000
END:DAYLIGHT
END:VTIMEZONE
BEGIN:VEVENT
UID:9271383d-3cfc-4f90-a489-df615528578b
DTSTAMP:20260421T194133Z
DESCRIPTION:'With House Bill 174\, the Texas State Legislature named the la
 st Friday in September American Indian Heritage Day\, which recognizes the
  historic\, cultural\, and social contributions American Indian communitie
 s and leaders have made to the state. The Bullock Museum\, in partnership 
 with Great Promise for American Indians\, celebrates our community's indig
 enous cultures with its special American Indian Heritage Day program.'\n\n
 Program for School Groups and Museum Visitors\n10:00 a.m. – 2:30 p.m.\nDis
 cover the diversity of native groups that have called this land home and f
 ind out more about groups currently living in Texas. Learn about cultural 
 traditions including storytelling\, clothing decoration\, art creation\, a
 nd food preparation at hands-on activity stations.\n\nPerformances\n10:30 
 a.m. – 11:00 a.m. and 12:00 p.m. – 12:30 p.m.\nDancing and drumming perfor
 mances by Great Promise for American Indians in the Museum Grand Lobby.\n
 \nPublic Celebration\n6:00 p.m. – 8:00 p.m.\nCelebrate the traditional and
  contemporary arts of Texas's American Indian groups. This FREE public pro
 gram will honor American Indians of yesterday and today\, with dancing and
  drumming performances.\n\n6:00 p.m. — Doors open. Explore the exhibition 
 Becoming Texas\n6:30 p.m. — American Indian Heritage Day program begins
DTSTART;TZID=America/Chicago:20220930T000000
DTEND;TZID=America/Chicago:20220930T235900
LOCATION:The Bullock Museum • 1800 Congress Ave\, Austin • Friday\, Septemb
 er 30
SUMMARY:American Indian Heritage Day Celebration @ the Bullock Museum\, Aus
 tin
END:VEVENT
END:VCALENDAR
