BEGIN:VCALENDAR
VERSION:2.0
PRODID:-//texashistoricalfoundation.org//NONSGML kigkonsult.se iCalcreator 
 2.30.10//
CALSCALE:GREGORIAN
METHOD:PUBLISH
UID:43888f6f-afc5-48c2-8554-3edcac43ce6f
X-WR-CALDESC:THF Directors visited the Bolivar Point Lighthouse Foundation 
 on site to see the results of the group’s restoration of the exterior of t
 he Point Bolivar lighthouse\, returning it to its historic condition and c
 olor. THF supported the work with a 2024 grant. The results are stunning! 
 The lighthouse was built in 1872 and famously harbored 125 refugees during
  the deadly Galveston Hurricane of 1900. It survived numerous subsequent s
 torms and stands today as a much-loved symbol of courage and resilience. 
 \n\nThe cupola and light are scheduled for restoration as well\, and a sta
 r holds their place for now.
X-WR-RELCALID:1e1c5d6aab1776fe8c251b848612318f
X-WR-TIMEZONE:America/Chicago
BEGIN:VTIMEZONE
TZID:America/Chicago
BEGIN:STANDARD
TZNAME:CST
DTSTART:20241103T020000
TZOFFSETFROM:-0500
TZOFFSETTO:-0600
RDATE:20251102T020000
END:STANDARD
BEGIN:DAYLIGHT
TZNAME:CDT
DTSTART:20250309T020000
TZOFFSETFROM:-0600
TZOFFSETTO:-0500
RDATE:20260308T020000
END:DAYLIGHT
END:VTIMEZONE
BEGIN:VEVENT
UID:ccd5be6f-3475-46e8-a37d-4b0d83169cca
DTSTAMP:20260424T162304Z
DESCRIPTION:THF Directors visited the Bolivar Point Lighthouse Foundation o
 n site to see the results of the group’s restoration of the exterior of th
 e Point Bolivar lighthouse\, returning it to its historic condition and co
 lor. THF supported the work with a 2024 grant. The results are stunning! T
 he lighthouse was built in 1872 and famously harbored 125 refugees during 
 the deadly Galveston Hurricane of 1900. It survived numerous subsequent st
 orms and stands today as a much-loved symbol of courage and resilience. \n
 \nThe cupola and light are scheduled for restoration as well\, and a star 
 holds their place for now.
DTSTART;TZID=America/Chicago:20250318T104500
DTEND;TZID=America/Chicago:20250318T114500
LOCATION:Point Bolivar Lighthouse\, 419 Everett #385\, Port Bolivar\, TX 77
 650 US
SUMMARY:THF Grant Presentation: Bolivar Point Lighthouse Foundation (Point 
 Bolivar)
END:VEVENT
END:VCALENDAR
