BEGIN:VCALENDAR
VERSION:2.0
PRODID:-//texashistoricalfoundation.org//NONSGML kigkonsult.se iCalcreator 
 2.30.10//
CALSCALE:GREGORIAN
METHOD:PUBLISH
UID:8173e771-6a85-447f-908e-f27675e981dc
X-WR-CALDESC:TSHA's grant supported its 2026 Annual Meeting\, held this yea
 r in Irving. Bringing together historians\, educators\, preservationists\,
  and history experts from across the state\, the conference is an importan
 t forum for sharing research\, fostering collaboration\, and promoting a d
 eeper understanding of Texas history.
X-WR-RELCALID:7f8870e13377d31ae9a0a727a84b1497
X-WR-TIMEZONE:America/Chicago
BEGIN:VTIMEZONE
TZID:America/Chicago
BEGIN:STANDARD
TZNAME:CST
DTSTART:20251102T020000
TZOFFSETFROM:-0500
TZOFFSETTO:-0600
RDATE:20261101T020000
END:STANDARD
BEGIN:DAYLIGHT
TZNAME:CDT
DTSTART:20250309T020000
TZOFFSETFROM:-0600
TZOFFSETTO:-0500
RDATE:20260308T020000
RDATE:20270314T020000
END:DAYLIGHT
END:VTIMEZONE
BEGIN:VEVENT
UID:6b578a3c-28fd-46ba-a69a-5f54ccf1b7f9
DTSTAMP:20260419T130903Z
DESCRIPTION:TSHA's grant supported its 2026 Annual Meeting\, held this year
  in Irving. Bringing together historians\, educators\, preservationists\, 
 and history experts from across the state\, the conference is an important
  forum for sharing research\, fostering collaboration\, and promoting a de
 eper understanding of Texas history.
DTSTART;TZID=America/Chicago:20260305T050000
DTEND;TZID=America/Chicago:20260305T050001
LOCATION:TSHA Annual Meeting in Irving\, TX
SUMMARY:THF Grant Presentation: Texas State Historical Association (Irving)
END:VEVENT
END:VCALENDAR
